BEGIN:VCALENDAR
VERSION:2.0
PRODID:-//North High Brewing - ECPv6.15.20//NONSGML v1.0//EN
CALSCALE:GREGORIAN
METHOD:PUBLISH
X-WR-CALNAME:North High Brewing
X-ORIGINAL-URL:https://northhighbrewing.com
X-WR-CALDESC:Events for North High Brewing
REFRESH-INTERVAL;VALUE=DURATION:PT1H
X-Robots-Tag:noindex
X-PUBLISHED-TTL:PT1H
BEGIN:VTIMEZONE
TZID:America/New_York
BEGIN:DAYLIGHT
TZOFFSETFROM:-0500
TZOFFSETTO:-0400
TZNAME:EDT
DTSTART:20240310T070000
END:DAYLIGHT
BEGIN:STANDARD
TZOFFSETFROM:-0400
TZOFFSETTO:-0500
TZNAME:EST
DTSTART:20241103T060000
END:STANDARD
BEGIN:DAYLIGHT
TZOFFSETFROM:-0500
TZOFFSETTO:-0400
TZNAME:EDT
DTSTART:20250309T070000
END:DAYLIGHT
BEGIN:STANDARD
TZOFFSETFROM:-0400
TZOFFSETTO:-0500
TZNAME:EST
DTSTART:20251102T060000
END:STANDARD
BEGIN:DAYLIGHT
TZOFFSETFROM:-0500
TZOFFSETTO:-0400
TZNAME:EDT
DTSTART:20260308T070000
END:DAYLIGHT
BEGIN:STANDARD
TZOFFSETFROM:-0400
TZOFFSETTO:-0500
TZNAME:EST
DTSTART:20261101T060000
END:STANDARD
END:VTIMEZONE
BEGIN:VEVENT
DTSTART;TZID=America/New_York:20250402T180000
DTEND;TZID=America/New_York:20250402T200000
DTSTAMP:20260424T211124
CREATED:20250324T202218Z
LAST-MODIFIED:20251003T191528Z
UID:10000002-1743616800-1743624000@northhighbrewing.com
SUMMARY:Trivia at Dublin!
DESCRIPTION:Work together\, win prizes! Join us for eight rounds of pen-and-paper\, general knowledge team trivia. No team size limit\, but most of our tables are best suited for teams of 4-8.
URL:https://northhighbrewing.com/event/trivia/2025-04-02/
LOCATION:Dublin Taproom\, 56 N High St\, Dublin\, OH\, 43017\, United States
CATEGORIES:Dublin
ATTACH;FMTTYPE=image/png:https://northhighbrewing.com/wp-content/uploads/2025/03/2.png
END:VEVENT
END:VCALENDAR