BEGIN:VCALENDAR
VERSION:2.0
PRODID:-//North High Brewing - ECPv6.15.20//NONSGML v1.0//EN
CALSCALE:GREGORIAN
METHOD:PUBLISH
X-WR-CALNAME:North High Brewing
X-ORIGINAL-URL:https://northhighbrewing.com
X-WR-CALDESC:Events for North High Brewing
REFRESH-INTERVAL;VALUE=DURATION:PT1H
X-Robots-Tag:noindex
X-PUBLISHED-TTL:PT1H
BEGIN:VTIMEZONE
TZID:America/New_York
BEGIN:DAYLIGHT
TZOFFSETFROM:-0500
TZOFFSETTO:-0400
TZNAME:EDT
DTSTART:20250309T070000
END:DAYLIGHT
BEGIN:STANDARD
TZOFFSETFROM:-0400
TZOFFSETTO:-0500
TZNAME:EST
DTSTART:20251102T060000
END:STANDARD
BEGIN:DAYLIGHT
TZOFFSETFROM:-0500
TZOFFSETTO:-0400
TZNAME:EDT
DTSTART:20260308T070000
END:DAYLIGHT
BEGIN:STANDARD
TZOFFSETFROM:-0400
TZOFFSETTO:-0500
TZNAME:EST
DTSTART:20261101T060000
END:STANDARD
BEGIN:DAYLIGHT
TZOFFSETFROM:-0500
TZOFFSETTO:-0400
TZNAME:EDT
DTSTART:20270314T070000
END:DAYLIGHT
BEGIN:STANDARD
TZOFFSETFROM:-0400
TZOFFSETTO:-0500
TZNAME:EST
DTSTART:20271107T060000
END:STANDARD
END:VTIMEZONE
BEGIN:VEVENT
DTSTART;TZID=America/New_York:20260421T180000
DTEND;TZID=America/New_York:20260421T210000
DTSTAMP:20260421T233804
CREATED:20250908T195106Z
LAST-MODIFIED:20250908T195209Z
UID:10001019-1776794400-1776805200@northhighbrewing.com
SUMMARY:Karaoke Tuesdays!
DESCRIPTION:🎶 Karaoke is on Tuesdays now! Join us from 6-9 pm in the lounge – sing us your favorite songs!
URL:https://northhighbrewing.com/event/karaoke-tuesdays/2026-04-21/
LOCATION:Dublin Taproom\, 56 N High St\, Dublin\, OH\, 43017\, United States
CATEGORIES:Dublin
ATTACH;FMTTYPE=image/png:https://northhighbrewing.com/wp-content/uploads/2025/09/KaraokeTuesdays.png
END:VEVENT
END:VCALENDAR